BEGIN:VCALENDAR
VERSION:2.0
PRODID:icalendar-ruby
CALSCALE:GREGORIAN
BEGIN:VEVENT
DTSTAMP:20260420T123027Z
UID:a82ebc12-e481-409b-a54a-0909695545cd
DTSTART;VALUE=DATE:20230713
DESCRIPTION:Property ID# 558695\, Locatoin: 247 Cameron Road\, Tauranga\, T
 ime: 1:00PM
SUMMARY:Auction for 
END:VEVENT
END:VCALENDAR
