BEGIN:VCALENDAR
VERSION:2.0
PRODID:icalendar-ruby
CALSCALE:GREGORIAN
BEGIN:VEVENT
DTSTAMP:20260420T125203Z
UID:335bc794-aa62-48b2-b235-1f818bd7bed5
DTSTART;VALUE=DATE:20260311
DESCRIPTION:Property ID# 603686\, Locatoin: Harcourts Auction Room\, 1 Thir
 d Avenue\, Tauranga\, Time: 11:30AM
SUMMARY:Auction for 
END:VEVENT
END:VCALENDAR
